BEGIN:VCALENDAR
VERSION:2.0
PRODID:-//eventon.com NONSGML v1.0//EN
CALSCALE:GREGORIAN
METHOD:PUBLISH
BEGIN:VEVENT
UID:69e733d414f2c
DTSTAMP:20260421T082244Z
DTSTART:20240320T150000Z
DTEND:20240320T160000Z
LOCATION:https://us02web.zoom.us/webinar/register/WN_HyEq5dk-TsKPTOSUexsX0w#/registration
SUMMARY:The Rational AI Architect - The Path for AI in Life Sciences
DESCRIPTION:Delve into the future of AI in life sciences at our Rational AI
  Architect event. Learn from industry leaders about building robust AI solu
 tions that drive innovation and efficiency in the biotech and life sciences
  sectors. This event will cover essential topics such as data management\, 
  machine learning\,  and AI-driven[..]\nhttps://ptp.cloud/events/the-ration
 al-ai-architect-the-path-for-ai-in-life-sciences/var/event_access
URL:https://ptp.cloud/events/the-rational-ai-architect-the-path-for-ai-in-life-sciences/var/event_access
END:VEVENT
END:VCALENDAR